BEGIN:VCALENDAR
PRODID:-//AT Content Types//AT Event//EN
VERSION:2.0
METHOD:PUBLISH
BEGIN:VEVENT
DTSTAMP:20260421T104301Z
CREATED:20121017T053110Z
UID:ATEvent-c86b657da5514455b29e7b165fcfc8e9
LAST-MODIFIED:20121017T053511Z
SUMMARY:富原中学校インターンシップ
DTSTART:20121017T053000Z
DTEND:20121019T053000Z
CLASS:PUBLIC
END:VEVENT
END:VCALENDAR
